BEGIN:VCALENDAR
VERSION:2.0
PRODID:-//UnitedSeats.com - ECPv6.15.20//NONSGML v1.0//EN
CALSCALE:GREGORIAN
METHOD:PUBLISH
X-ORIGINAL-URL:https://unitedseats.com
X-WR-CALDESC:Events for UnitedSeats.com
REFRESH-INTERVAL;VALUE=DURATION:PT1H
X-Robots-Tag:noindex
X-PUBLISHED-TTL:PT1H
BEGIN:VTIMEZONE
TZID:Europe/Amsterdam
BEGIN:DAYLIGHT
TZOFFSETFROM:+0100
TZOFFSETTO:+0200
TZNAME:CEST
DTSTART:20240331T010000
END:DAYLIGHT
BEGIN:STANDARD
TZOFFSETFROM:+0200
TZOFFSETTO:+0100
TZNAME:CET
DTSTART:20241027T010000
END:STANDARD
BEGIN:DAYLIGHT
TZOFFSETFROM:+0100
TZOFFSETTO:+0200
TZNAME:CEST
DTSTART:20250330T010000
END:DAYLIGHT
BEGIN:STANDARD
TZOFFSETFROM:+0200
TZOFFSETTO:+0100
TZNAME:CET
DTSTART:20251026T010000
END:STANDARD
BEGIN:DAYLIGHT
TZOFFSETFROM:+0100
TZOFFSETTO:+0200
TZNAME:CEST
DTSTART:20260329T010000
END:DAYLIGHT
BEGIN:STANDARD
TZOFFSETFROM:+0200
TZOFFSETTO:+0100
TZNAME:CET
DTSTART:20261025T010000
END:STANDARD
BEGIN:DAYLIGHT
TZOFFSETFROM:+0100
TZOFFSETTO:+0200
TZNAME:CEST
DTSTART:20270328T010000
END:DAYLIGHT
BEGIN:STANDARD
TZOFFSETFROM:+0200
TZOFFSETTO:+0100
TZNAME:CET
DTSTART:20271031T010000
END:STANDARD
END:VTIMEZONE
BEGIN:VEVENT
DTSTART;VALUE=DATE:20260415
DTEND;VALUE=DATE:20260419
DTSTAMP:20260424T035908
CREATED:20260109T095446Z
LAST-MODIFIED:20260109T095616Z
UID:15135-1776211200-1776556799@unitedseats.com
SUMMARY:SMOPC 2026 (Spain)
DESCRIPTION:Sumsertech will attend Smopyc 2026 (Spain) \nhttps://sites.feriazaragoza.es/smopyc \n 
URL:https://unitedseats.com/event/smopc-2026-spain/
LOCATION:Feria de Zaragoza\, Autovia A - 2\, Zaragoza\, 50012\, Spain
CATEGORIES:Dealer events
ATTACH;FMTTYPE=image/jpeg:https://unitedseats.com/wp-content/uploads/2026/01/SMOPYC-2026-logo.jpg
END:VEVENT
BEGIN:VEVENT
DTSTART;VALUE=DATE:20260412
DTEND;VALUE=DATE:20260416
DTSTAMP:20260424T035908
CREATED:20260409T110834Z
LAST-MODIFIED:20260409T110834Z
UID:15405-1775952000-1776297599@unitedseats.com
SUMMARY:SILVA REGINA 2026 (Czech Republic)
DESCRIPTION:Best Seating Systems will attent Silva Regina 2026 – International Forestry and Hunting Fair (Czech Republic) \n\n\n\n\nhttps://www.bvv.cz/en/silva-regina \n 
URL:https://unitedseats.com/event/silva-regina-2026-czech-republic/
LOCATION:BRNO Exhibition Centre\, Czech Republic
CATEGORIES:Dealer events
ATTACH;FMTTYPE=image/jpeg:https://unitedseats.com/wp-content/uploads/2026/04/silva-regina-2026.jpg
END:VEVENT
BEGIN:VEVENT
DTSTART;VALUE=DATE:20260313
DTEND;VALUE=DATE:20260316
DTSTAMP:20260424T035908
CREATED:20260108T143036Z
LAST-MODIFIED:20260108T145408Z
UID:15132-1773360000-1773619199@unitedseats.com
SUMMARY:AGROTECH 2026 (Poland)
DESCRIPTION:Katpol will attend Agrotech 2026 (Poland) \nhttps://www.mchale.net/events/agrotech-2026/ \n 
URL:https://unitedseats.com/event/agrotech-2026-poland/
LOCATION:Kielce\, Poland
CATEGORIES:Dealer events
ATTACH;FMTTYPE=image/jpeg:https://unitedseats.com/wp-content/uploads/2025/02/agrotech-logo.jpg
ORGANIZER;CN="Katpol":MAILTO:katpol@katpol.com
END:VEVENT
BEGIN:VEVENT
DTSTART;VALUE=DATE:20260221
DTEND;VALUE=DATE:20260223
DTSTAMP:20260424T035908
CREATED:20260204T194404Z
LAST-MODIFIED:20260204T194404Z
UID:15242-1771632000-1771804799@unitedseats.com
SUMMARY:TRACTOR WORLD SHOW 2026 (United Kingdom)
DESCRIPTION:Carpenter Goodwin will attend Tractor World Show 2026 (United Kingdom) \nhttps://tractorworldshow.co.uk/ \n 
URL:https://unitedseats.com/event/tractor-world-show-2026-united-kingdom/
LOCATION:Three Counties Showground\, Malvern\, Worcestershire\, United Kingdom
CATEGORIES:Dealer events
ATTACH;FMTTYPE=image/jpeg:https://unitedseats.com/wp-content/uploads/2026/02/tractor-world-show-2026.jpg
END:VEVENT
BEGIN:VEVENT
DTSTART;VALUE=DATE:20260210
DTEND;VALUE=DATE:20260215
DTSTAMP:20260424T035908
CREATED:20260109T100309Z
LAST-MODIFIED:20260109T100309Z
UID:15142-1770681600-1771113599@unitedseats.com
SUMMARY:FIMA SHOW 2026 (Spain)
DESCRIPTION:Sumsertech will attend Fima Show 2026 (Spain) \nhttps://sites.feriazaragoza.com/fima-agricola
URL:https://unitedseats.com/event/fima-show-2026-spain/
LOCATION:Feria de Zaragoza\, Autovia A - 2\, Zaragoza\, 50012\, Spain
CATEGORIES:Dealer events
ATTACH;FMTTYPE=image/jpeg:https://unitedseats.com/wp-content/uploads/2026/01/fima-logo.jpg
END:VEVENT
BEGIN:VEVENT
DTSTART;VALUE=DATE:20260210
DTEND;VALUE=DATE:20260213
DTSTAMP:20260424T035908
CREATED:20260108T081536Z
LAST-MODIFIED:20260108T081536Z
UID:15111-1770681600-1770940799@unitedseats.com
SUMMARY:INFRA RELATIEDAGEN 2026 (The Netherlands)
DESCRIPTION:EBLO Seating will attend Infra Relatiedagen 2026 (The Netherlands) \nhttps://www.infrarelatiedagen.nl/
URL:https://unitedseats.com/event/infra-relatiedagen-2026-the-netherlands/
LOCATION:Harderberg\, Netherlands
CATEGORIES:Dealer events
ATTACH;FMTTYPE=image/jpeg:https://unitedseats.com/wp-content/uploads/2024/12/infra-relatiedagen-logo.jpg
ORGANIZER;CN="EBLO Seating":MAILTO:info@eblo.nl
END:VEVENT
BEGIN:VEVENT
DTSTART;VALUE=DATE:20260204
DTEND;VALUE=DATE:20260205
DTSTAMP:20260424T035908
CREATED:20260108T140720Z
LAST-MODIFIED:20260108T140720Z
UID:15127-1770163200-1770249599@unitedseats.com
SUMMARY:YAMS 2026 (United Kingdom)
DESCRIPTION:Independent Agri Parts will attend Yams 2026 (United Kingdom) \nhttps://www.yams.uk.com/
URL:https://unitedseats.com/event/yams-2026-united-kingdom/
LOCATION:Yorkshire\, United Kingdom
CATEGORIES:Dealer events
ATTACH;FMTTYPE=image/jpeg:https://unitedseats.com/wp-content/uploads/2026/01/YAMS-logo-Yorkshire-Agricultural-Machinery-Show.jpg
END:VEVENT
BEGIN:VEVENT
DTSTART;VALUE=DATE:20260121
DTEND;VALUE=DATE:20260125
DTSTAMP:20260424T035908
CREATED:20260108T123825Z
LAST-MODIFIED:20260109T123316Z
UID:15119-1768953600-1769299199@unitedseats.com
SUMMARY:AGROMASHEXPO 2026 (Hungary)
DESCRIPTION:Agrar Plaza will attend AGROmashEXPO 2026 (Hungary) \nhttps://agromashexpo.hu/en/
URL:https://unitedseats.com/event/agromashexpo-2026-hungary/
LOCATION:Budapest\, Hungary
CATEGORIES:Dealer events
ATTACH;FMTTYPE=image/jpeg:https://unitedseats.com/wp-content/uploads/2026/01/agromash_2026_Logo2.jpg
END:VEVENT
BEGIN:VEVENT
DTSTART;VALUE=DATE:20260114
DTEND;VALUE=DATE:20260116
DTSTAMP:20260424T035908
CREATED:20260108T083212Z
LAST-MODIFIED:20260109T092602Z
UID:15113-1768348800-1768521599@unitedseats.com
SUMMARY:LAMMA SHOW 2026 (United Kingdom)
DESCRIPTION:TEK Seating & Capital Seating & Agriline will attend Lamma Show 2026 (United Kingdom) \nhttps://www.lammashow.com/
URL:https://unitedseats.com/event/lamma-show-2026-united-kingdom/
LOCATION:Birmingham NEC\, United Kingdom
CATEGORIES:Dealer events
ATTACH;FMTTYPE=image/jpeg:https://unitedseats.com/wp-content/uploads/2026/01/Lamma-Show-1.jpg
END:VEVENT
BEGIN:VEVENT
DTSTART;VALUE=DATE:20251124
DTEND;VALUE=DATE:20251126
DTSTAMP:20260424T035908
CREATED:20250205T145641Z
LAST-MODIFIED:20250205T145641Z
UID:13774-1763942400-1764115199@unitedseats.com
SUMMARY:WINTER WELSH FAIR 2025 (United Kingdom)
DESCRIPTION:Carpenter Goodwin will attend Winter Welsh Fair 2025 (United Kingdom) \nhttps://rwas.wales/winter-fair
URL:https://unitedseats.com/event/winter-welsh-fair-2025-united-kingdom/
CATEGORIES:Dealer events
ATTACH;FMTTYPE=image/png:https://unitedseats.com/wp-content/uploads/2022/04/RWAS-new-crest_transparent_900px-2022.png
END:VEVENT
BEGIN:VEVENT
DTSTART;VALUE=DATE:20251119
DTEND;VALUE=DATE:20251120
DTSTAMP:20260424T035908
CREATED:20250205T145419Z
LAST-MODIFIED:20250205T145815Z
UID:13775-1763510400-1763596799@unitedseats.com
SUMMARY:MIDLAND MACHINERY 2025 (United Kingdom)
DESCRIPTION: TractorParts will attend Midland Machinery 2025 (United Kingdom) \nhttps://midlandsmachineryshow.com
URL:https://unitedseats.com/event/midland-machinery-2025-united-kingdom/
CATEGORIES:Dealer events
ATTACH;FMTTYPE=image/jpeg:https://unitedseats.com/wp-content/uploads/2024/05/MMS-midlands-machinery-show-logo.jpg
END:VEVENT
BEGIN:VEVENT
DTSTART;VALUE=DATE:20251118
DTEND;VALUE=DATE:20251123
DTSTAMP:20260424T035908
CREATED:20250103T090921Z
LAST-MODIFIED:20250704T071426Z
UID:13607-1763424000-1763855999@unitedseats.com
SUMMARY:SOLUTRANS 2025 (France)
DESCRIPTION:Azur Siège France will attend Solutrans 2025 (France) \nhttps://www.solutrans.fr/en
URL:https://unitedseats.com/event/solutrans-2025-france/
CATEGORIES:Dealer events
ATTACH;FMTTYPE=image/jpeg:https://unitedseats.com/wp-content/uploads/2025/01/Solutrans-logo.jpg
END:VEVENT
BEGIN:VEVENT
DTSTART;VALUE=DATE:20251109
DTEND;VALUE=DATE:20251116
DTSTAMP:20260424T035908
CREATED:20251020T125837Z
LAST-MODIFIED:20251020T132342Z
UID:14752-1762646400-1763251199@unitedseats.com
SUMMARY:AGRITECHNICA 2025 (Germany)
DESCRIPTION:Förarmiljö AB and Müller Industrietechnik will attend Agritechnica 2025 (Germany) \n\nVisit Förarmiljö AB at stand number 17 C31 \nVisit Müller Industrietechnik at stand number 17 E41 \n\nhttps://www.agritechnica.com/en/
URL:https://unitedseats.com/event/agritechnica-2025-germany/
CATEGORIES:Dealer events
ATTACH;FMTTYPE=image/jpeg:https://unitedseats.com/wp-content/uploads/2025/10/Agritechnica-logo-2.jpg
END:VEVENT
BEGIN:VEVENT
DTSTART;VALUE=DATE:20251108
DTEND;VALUE=DATE:20251110
DTSTAMP:20260424T035908
CREATED:20250205T145056Z
LAST-MODIFIED:20250205T145136Z
UID:13769-1762560000-1762732799@unitedseats.com
SUMMARY:NEWARK VINTAGE TRACTOR SHOW 2025 (United Kingdom)
DESCRIPTION:TractorParts will attend Newark Vintage Tractor Show 2025 (United Kingdom) \nhttps://newarkvintagetractorshow.com
URL:https://unitedseats.com/event/newark-vintage-tractor-show-2025-united-kingdom/
CATEGORIES:Dealer events
ATTACH;FMTTYPE=image/jpeg:https://unitedseats.com/wp-content/uploads/2023/04/Newark-Vintage-Heritage-Show.jpg
END:VEVENT
BEGIN:VEVENT
DTSTART;VALUE=DATE:20251015
DTEND;VALUE=DATE:20251018
DTSTAMP:20260424T035908
CREATED:20250812T082639Z
LAST-MODIFIED:20250812T082639Z
UID:14533-1760486400-1760745599@unitedseats.com
SUMMARY:AGRIEXPO 2025 (Peru)
DESCRIPTION:Overall Equipment will attend AgriExpo (Peru) \nhttps://agriexpoperu.com.pe/
URL:https://unitedseats.com/event/agriexpo-2025-peru/
CATEGORIES:Dealer events
ATTACH;FMTTYPE=image/jpeg:https://unitedseats.com/wp-content/uploads/2025/08/logo-agriexpo.jpg
END:VEVENT
BEGIN:VEVENT
DTSTART;VALUE=DATE:20251015
DTEND;VALUE=DATE:20251018
DTSTAMP:20260424T035908
CREATED:20250103T090925Z
LAST-MODIFIED:20250103T090925Z
UID:13606-1760486400-1760745599@unitedseats.com
SUMMARY:ITECHMER 2025 (France)
DESCRIPTION:HIOT will attend Itechmer 2025 (France) \nhttps://www.itechmer.com/
URL:https://unitedseats.com/event/itechmer-2025-france/
CATEGORIES:Dealer events
ATTACH;FMTTYPE=image/jpeg:https://unitedseats.com/wp-content/uploads/2025/01/Itechmer-logo.jpg
END:VEVENT
BEGIN:VEVENT
DTSTART;VALUE=DATE:20251006
DTEND;VALUE=DATE:20251010
DTSTAMP:20260424T035908
CREATED:20250228T074555Z
LAST-MODIFIED:20250228T080127Z
UID:13928-1759708800-1760054399@unitedseats.com
SUMMARY:BUSWORLD EUROPE 2025 (Belgium)
DESCRIPTION:EBLO Seating and UnitedSeats will attend Busworld Europe 2025 (Belgium) \nhttps://www.busworldeurope.org/congress
URL:https://unitedseats.com/event/busworld-europe-2025-belgium/
CATEGORIES:Dealer events,Exhibitions
ATTACH;FMTTYPE=image/jpeg:https://unitedseats.com/wp-content/uploads/2025/02/busworld-2025-logo-2.jpg
ORGANIZER;CN="EBLO Seating":MAILTO:info@eblo.nl
END:VEVENT
BEGIN:VEVENT
DTSTART;VALUE=DATE:20251004
DTEND;VALUE=DATE:20251005
DTSTAMP:20260424T035908
CREATED:20250911T142630Z
LAST-MODIFIED:20250911T142630Z
UID:14603-1759536000-1759622399@unitedseats.com
SUMMARY:EROBOCZE SHOW 2025 (Poland)
DESCRIPTION:Autos will attend eRobocze Show 2025 (Poland) \nhttps://eroboczeshow.pl/o-targach/
URL:https://unitedseats.com/event/erobocze-show-2025-poland/
CATEGORIES:Dealer events
ATTACH;FMTTYPE=image/jpeg:https://unitedseats.com/wp-content/uploads/2025/09/eRobocze-show-2025-logo.jpg
END:VEVENT
BEGIN:VEVENT
DTSTART;VALUE=DATE:20250925
DTEND;VALUE=DATE:20250929
DTSTAMP:20260424T035908
CREATED:20241231T093640Z
LAST-MODIFIED:20241231T093829Z
UID:13591-1758758400-1759103999@unitedseats.com
SUMMARY:NUFAM 2025 (Germany)
DESCRIPTION:EBLO Seating and UnitedSeats will attend Nufam 2025 (Germany) \nhttps://www.nufam.de/en/
URL:https://unitedseats.com/event/nufam-2025-germany/
LOCATION:Karlsruhe\, Germany
CATEGORIES:Dealer events,Exhibitions
ATTACH;FMTTYPE=image/jpeg:https://unitedseats.com/wp-content/uploads/2024/12/nufam-logo.jpg
ORGANIZER;CN="EBLO Seating":MAILTO:info@eblo.nl
END:VEVENT
BEGIN:VEVENT
DTSTART;VALUE=DATE:20250923
DTEND;VALUE=DATE:20250926
DTSTAMP:20260424T035908
CREATED:20250205T144659Z
LAST-MODIFIED:20250205T144659Z
UID:13768-1758585600-1758844799@unitedseats.com
SUMMARY:PLANTWORX NEWARK 2025 (United Kingdom)
DESCRIPTION:TEK Seating will attend Plantworx Newark 2025 (United Kingdom) \nhttps://plantworx.co.uk
URL:https://unitedseats.com/event/plantworx-newark-2025-united-kingdom/
CATEGORIES:Dealer events
ATTACH;FMTTYPE=image/jpeg:https://unitedseats.com/wp-content/uploads/2025/02/plantworx-newark-2025.jpg
END:VEVENT
BEGIN:VEVENT
DTSTART;VALUE=DATE:20250919
DTEND;VALUE=DATE:20250922
DTSTAMP:20260424T035908
CREATED:20250205T143256Z
LAST-MODIFIED:20250205T144647Z
UID:13766-1758240000-1758499199@unitedseats.com
SUMMARY:AGRO SHOW 2025 (Poland)
DESCRIPTION:Katpol will attend Agro Show 2025 (Poland) \nhttps://www.agroshow.pl/agroshow/en/agro-show-2025
URL:https://unitedseats.com/event/agro-show-2025-poland/
CATEGORIES:Dealer events
ATTACH;FMTTYPE=image/jpeg:https://unitedseats.com/wp-content/uploads/2024/05/agroshow.jpg
ORGANIZER;CN="Katpol":MAILTO:katpol@katpol.com
END:VEVENT
BEGIN:VEVENT
DTSTART;VALUE=DATE:20250912
DTEND;VALUE=DATE:20250915
DTSTAMP:20260424T035908
CREATED:20250704T071059Z
LAST-MODIFIED:20250704T071246Z
UID:14390-1757635200-1757894399@unitedseats.com
SUMMARY:FOIRE DE LA BEAUCROISSANT 2025 (France)
DESCRIPTION:BF Equipement will attend Foire de la Beaucroissant \nhttps://www.foirebeaucroissant.fr/
URL:https://unitedseats.com/event/foire-de-la-beaucroissant-2025-france/
CATEGORIES:Dealer events
ATTACH;FMTTYPE=image/jpeg:https://unitedseats.com/wp-content/uploads/2025/07/Foire-de-la-Beaucroissant.jpg
END:VEVENT
BEGIN:VEVENT
DTSTART;VALUE=DATE:20250911
DTEND;VALUE=DATE:20250914
DTSTAMP:20260424T035908
CREATED:20250204T120133Z
LAST-MODIFIED:20250204T120133Z
UID:13743-1757548800-1757807999@unitedseats.com
SUMMARY:ENTREPRENAD 2025 (Sweden)
DESCRIPTION:Förarmiljö will attend Entreprenad 2025 (Sweden) \nhttps://entreprenadlive.se
URL:https://unitedseats.com/event/entreprenad-2025-sweden/
CATEGORIES:Dealer events
ATTACH;FMTTYPE=image/jpeg:https://unitedseats.com/wp-content/uploads/2025/02/entreprenad.jpg
END:VEVENT
BEGIN:VEVENT
DTSTART;VALUE=DATE:20250828
DTEND;VALUE=DATE:20250831
DTSTAMP:20260424T035908
CREATED:20250703T122747Z
LAST-MODIFIED:20250703T122747Z
UID:14381-1756339200-1756598399@unitedseats.com
SUMMARY:MAXPO 2025 (Finland)
DESCRIPTION:Sanup will attend Maxpo 2025 (Finland) \nhttps://maxpo.messukeskus.com/en/
URL:https://unitedseats.com/event/maxpo-2025-finland/
CATEGORIES:Dealer events
ATTACH;FMTTYPE=image/jpeg:https://unitedseats.com/wp-content/uploads/2025/07/maxpo-2025.jpg
END:VEVENT
BEGIN:VEVENT
DTSTART;VALUE=DATE:20250810
DTEND;VALUE=DATE:20250811
DTSTAMP:20260424T035908
CREATED:20250204T112138Z
LAST-MODIFIED:20250204T112138Z
UID:13739-1754784000-1754870399@unitedseats.com
SUMMARY:TULLAMORE SHOW 2025 (Ireland)
DESCRIPTION:Seat Systems will attend Tullamore show 2025 (Ireland) \nhttps://www.tullamoreshow.com
URL:https://unitedseats.com/event/tullamore-show-2025-ireland/
CATEGORIES:Dealer events
ATTACH;FMTTYPE=image/jpeg:https://unitedseats.com/wp-content/uploads/2025/02/tullamore-show.jpg
END:VEVENT
BEGIN:VEVENT
DTSTART;VALUE=DATE:20250808
DTEND;VALUE=DATE:20250810
DTSTAMP:20260424T035908
CREATED:20250703T122752Z
LAST-MODIFIED:20250703T122752Z
UID:14380-1754611200-1754783999@unitedseats.com
SUMMARY:POWER TRUCK SHOW 2025 (Finland)
DESCRIPTION:Sanup will attend Power Truck Show 2025 (Finland) \nhttps://www.powertruckshow.fi/en/
URL:https://unitedseats.com/event/power-truck-show-2025-finland/
CATEGORIES:Dealer events
ATTACH;FMTTYPE=image/jpeg:https://unitedseats.com/wp-content/uploads/2025/07/power-truck-show.jpg
END:VEVENT
BEGIN:VEVENT
DTSTART;VALUE=DATE:20250721
DTEND;VALUE=DATE:20250725
DTSTAMP:20260424T035908
CREATED:20250204T110941Z
LAST-MODIFIED:20250204T111609Z
UID:13730-1753056000-1753401599@unitedseats.com
SUMMARY:ROYAL WELSH SHOW 2025 (United Kingdom)
DESCRIPTION:Carpenter Goodwin will attend Royal Welsh Show 2025 (United Kingdom) \nhttps://rwas.wales/royal-welsh
URL:https://unitedseats.com/event/royal-welsh-show-2025-united-kingdom/
CATEGORIES:Dealer events
ATTACH;FMTTYPE=image/png:https://unitedseats.com/wp-content/uploads/2022/04/RWAS-new-crest_transparent_900px-2022.png
END:VEVENT
BEGIN:VEVENT
DTSTART;VALUE=DATE:20250716
DTEND;VALUE=DATE:20250717
DTSTAMP:20260424T035908
CREATED:20250204T110623Z
LAST-MODIFIED:20250204T111600Z
UID:13726-1752624000-1752710399@unitedseats.com
SUMMARY:DRIFFIELD SHOW 2025 (United Kingdom)
DESCRIPTION:The Independent Agri Parts will attend Driffield Show 2025 (United Kingdom) \nhttps://www.driffieldshowground.co.uk
URL:https://unitedseats.com/event/driffield-show-2025-united-kingdom/
CATEGORIES:Dealer events
ATTACH;FMTTYPE=image/jpeg:https://unitedseats.com/wp-content/uploads/2025/02/driffield-show-2025.jpg
END:VEVENT
BEGIN:VEVENT
DTSTART;VALUE=DATE:20250625
DTEND;VALUE=DATE:20250627
DTSTAMP:20260424T035908
CREATED:20250204T100519Z
LAST-MODIFIED:20250204T111548Z
UID:13724-1750809600-1750982399@unitedseats.com
SUMMARY:BORGEBY FALTDAGER 2025 (Sweden)
DESCRIPTION:Förarmiljö will attend Borgeby Faltdagar 2025 (Sweden) \nhttps://www.borgebyfaltdagar.se
URL:https://unitedseats.com/event/borgeby-faltdager-2025-sweden/
CATEGORIES:Dealer events
ATTACH;FMTTYPE=image/jpeg:https://unitedseats.com/wp-content/uploads/2024/05/Borgeby-Faltdagar-show.jpg
END:VEVENT
BEGIN:VEVENT
DTSTART;VALUE=DATE:20250624
DTEND;VALUE=DATE:20250627
DTSTAMP:20260424T035908
CREATED:20250203T090250Z
LAST-MODIFIED:20250205T145850Z
UID:13711-1750723200-1750982399@unitedseats.com
SUMMARY:ROAD TRANSPORT EXPO STONELEIGH 2025 (United Kingdom)
DESCRIPTION:EBLO Seating and UnitedSeats will attend Road Transport Expo Stoneleigh 2025 (United Kingdom) \nhttps://roadtransportexpo.co.uk
URL:https://unitedseats.com/event/road-transport-expo-stoneleigh-2025-united-kingdom/
CATEGORIES:Dealer events,Exhibitions
ATTACH;FMTTYPE=image/jpeg:https://unitedseats.com/wp-content/uploads/2025/02/road-transport-expo-2025.jpg
ORGANIZER;CN="EBLO Seating":MAILTO:info@eblo.nl
END:VEVENT
END:VCALENDAR