BEGIN:VCALENDAR
VERSION:2.0
PRODID:-//UnitedSeats.com - ECPv6.15.20//NONSGML v1.0//EN
CALSCALE:GREGORIAN
METHOD:PUBLISH
X-WR-CALNAME:UnitedSeats.com
X-ORIGINAL-URL:https://unitedseats.com
X-WR-CALDESC:Events for UnitedSeats.com
REFRESH-INTERVAL;VALUE=DURATION:PT1H
X-Robots-Tag:noindex
X-PUBLISHED-TTL:PT1H
BEGIN:VTIMEZONE
TZID:Europe/Amsterdam
BEGIN:DAYLIGHT
TZOFFSETFROM:+0100
TZOFFSETTO:+0200
TZNAME:CEST
DTSTART:20230326T010000
END:DAYLIGHT
BEGIN:STANDARD
TZOFFSETFROM:+0200
TZOFFSETTO:+0100
TZNAME:CET
DTSTART:20231029T010000
END:STANDARD
BEGIN:DAYLIGHT
TZOFFSETFROM:+0100
TZOFFSETTO:+0200
TZNAME:CEST
DTSTART:20240331T010000
END:DAYLIGHT
BEGIN:STANDARD
TZOFFSETFROM:+0200
TZOFFSETTO:+0100
TZNAME:CET
DTSTART:20241027T010000
END:STANDARD
BEGIN:DAYLIGHT
TZOFFSETFROM:+0100
TZOFFSETTO:+0200
TZNAME:CEST
DTSTART:20250330T010000
END:DAYLIGHT
BEGIN:STANDARD
TZOFFSETFROM:+0200
TZOFFSETTO:+0100
TZNAME:CET
DTSTART:20251026T010000
END:STANDARD
BEGIN:DAYLIGHT
TZOFFSETFROM:+0100
TZOFFSETTO:+0200
TZNAME:CEST
DTSTART:20260329T010000
END:DAYLIGHT
BEGIN:STANDARD
TZOFFSETFROM:+0200
TZOFFSETTO:+0100
TZNAME:CET
DTSTART:20261025T010000
END:STANDARD
END:VTIMEZONE
BEGIN:VTIMEZONE
TZID:UTC
BEGIN:STANDARD
TZOFFSETFROM:+0000
TZOFFSETTO:+0000
TZNAME:UTC
DTSTART:20230101T000000
END:STANDARD
END:VTIMEZONE
BEGIN:VEVENT
DTSTART;VALUE=DATE:20250205
DTEND;VALUE=DATE:20250206
DTSTAMP:20260424T051933
CREATED:20241029T155627Z
LAST-MODIFIED:20241112T150520Z
UID:13226-1738713600-1738799999@unitedseats.com
SUMMARY:YAMS 2025 (United Kingdom)
DESCRIPTION:The Independent Agri Parts will attend YAMS 2025 (United Kingdom) \nhttps://www.yams.uk.com/
URL:https://unitedseats.com/event/yams-2024/
CATEGORIES:Dealer events
ATTACH;FMTTYPE=image/jpeg:https://unitedseats.com/wp-content/uploads/2024/01/Yorkshire-Agricultural-Machinery-Show-YAMS.jpg
END:VEVENT
BEGIN:VEVENT
DTSTART;VALUE=DATE:20250204
DTEND;VALUE=DATE:20250209
DTSTAMP:20260424T051933
CREATED:20241029T160012Z
LAST-MODIFIED:20241112T150437Z
UID:13227-1738627200-1739059199@unitedseats.com
SUMMARY:STOCKHOLM FURNITURE FAIR 2025 (Sweden)
DESCRIPTION:Stolcomfort will attent Stockholm Furniture Fair 2025 (Sweden) \nhttps://stockholmfurniturefair.se/en/
URL:https://unitedseats.com/event/stockholm-furniture-fair-2024-sweden-2/
CATEGORIES:Dealer events
ATTACH;FMTTYPE=image/jpeg:https://unitedseats.com/wp-content/uploads/2024/01/Stockholm-furniture-fair.jpg
END:VEVENT
BEGIN:VEVENT
DTSTART;VALUE=DATE:20250122
DTEND;VALUE=DATE:20250126
DTSTAMP:20260424T051933
CREATED:20241029T155531Z
LAST-MODIFIED:20241113T124133Z
UID:13225-1737504000-1737849599@unitedseats.com
SUMMARY:AGROMASH EXPO 2025 (Hungary)
DESCRIPTION:Agrar Plaza will attent AGROmash EXPO 2025 (Hungary) \nhttps://www.tradefairdates.com/AGROmashEXPO-M4721/Budapest.html#google_vignette
URL:https://unitedseats.com/event/agromash-expo-2024/
CATEGORIES:Dealer events
ATTACH;FMTTYPE=image/jpeg:https://unitedseats.com/wp-content/uploads/2023/01/AGROmashEXPO.jpg
END:VEVENT
BEGIN:VEVENT
DTSTART;VALUE=DATE:20250115
DTEND;VALUE=DATE:20250117
DTSTAMP:20260424T051933
CREATED:20241112T150448Z
LAST-MODIFIED:20241113T124315Z
UID:13251-1736899200-1737071999@unitedseats.com
SUMMARY:LAMMA SHOW 2025 (United Kingdom)
DESCRIPTION:TEK Seating and Capital Seating will attend Lamma Show 2025 (United Kingdom) \nhttps://www.lammashow.com/
URL:https://unitedseats.com/event/lamma-show-2025-united-kingdom/
ATTACH;FMTTYPE=image/jpeg:https://unitedseats.com/wp-content/uploads/2024/11/Lamma-2025.jpg
END:VEVENT
BEGIN:VEVENT
DTSTART;VALUE=DATE:20250115
DTEND;VALUE=DATE:20250117
DTSTAMP:20260424T051933
CREATED:20240103T151037Z
LAST-MODIFIED:20241113T124308Z
UID:11663-1736899200-1737071999@unitedseats.com
SUMMARY:LAMMA SHOW 2025 (United Kingdom)
DESCRIPTION:TEK Seating and Capital Seating will attend Lamma Show 2025 (United Kingdom) \nhttps://www.lammashow.com/
URL:https://unitedseats.com/event/lamma-2025-united-kingdom/
CATEGORIES:Dealer events
ATTACH;FMTTYPE=image/jpeg:https://unitedseats.com/wp-content/uploads/2024/11/Lamma-2025.jpg
ORGANIZER;CN="Capital Seating":MAILTO:info@capitalseating.co.uk
END:VEVENT
BEGIN:VEVENT
DTSTART;VALUE=DATE:20241125
DTEND;VALUE=DATE:20241127
DTSTAMP:20260424T051933
CREATED:20241028T155648Z
LAST-MODIFIED:20241029T160207Z
UID:13221-1732492800-1732665599@unitedseats.com
SUMMARY:ROYAL WELSH WINTER FAIR 2024 (United Kingdom)
DESCRIPTION:Carpenter Goodwin will attend Royal Welsh Winter Fair 2024 (United Kingdom) \nhttps://rwas.wales/whats-on/royal-welsh-winter-fair-3/
URL:https://unitedseats.com/event/royal-welsh-winter-fair-2024/
CATEGORIES:Dealer events
ATTACH;FMTTYPE=image/png:https://unitedseats.com/wp-content/uploads/2022/04/RWAS-new-crest_transparent_900px-2022.png
END:VEVENT
BEGIN:VEVENT
DTSTART;VALUE=DATE:20241125
DTEND;VALUE=DATE:20241127
DTSTAMP:20260424T051933
CREATED:20240522T143319Z
LAST-MODIFIED:20240522T143926Z
UID:12299-1732492800-1732665599@unitedseats.com
SUMMARY:ROYAL WELSH WINTER FAIR 2024 (United Kingdom)
DESCRIPTION:Carpenter Goodwin will attend Royal Welsh Winter Fair 2024 (United Kingdom) \nhttps://rwas.wales/whats-on/royal-welsh-winter-fair-3/
URL:https://unitedseats.com/event/royal-welsh-winter-fair-2024-united-kingdom/
CATEGORIES:Dealer events
ATTACH;FMTTYPE=image/jpeg:https://unitedseats.com/wp-content/uploads/2017/08/royal-welsh-agricultural-society.jpg
END:VEVENT
BEGIN:VEVENT
DTSTART;VALUE=DATE:20241120
DTEND;VALUE=DATE:20241122
DTSTAMP:20260424T051933
CREATED:20240522T144148Z
LAST-MODIFIED:20240522T144148Z
UID:12303-1732060800-1732233599@unitedseats.com
SUMMARY:MIDLAND MACHINERY SHOW 2024 (United Kingdom)
DESCRIPTION:TractorParts.co.uk Ltd will attend Midland Machinery Show 2024 (United Kingdom) \nhttps://midlandsmachineryshow.com/why-exhibit/exhibitor-list
URL:https://unitedseats.com/event/midland-machinery-show-2024-united-kingdom/
CATEGORIES:Dealer events
ATTACH;FMTTYPE=image/jpeg:https://unitedseats.com/wp-content/uploads/2024/05/MMS-midlands-machinery-show-logo.jpg
END:VEVENT
BEGIN:VEVENT
DTSTART;VALUE=DATE:20241112
DTEND;VALUE=DATE:20241115
DTSTAMP:20260424T051933
CREATED:20241028T154828Z
LAST-MODIFIED:20241029T160108Z
UID:13217-1731369600-1731628799@unitedseats.com
SUMMARY:FTMTA SHOW 2024 (Ireland)
DESCRIPTION:Seat Systems will attend FTMTA show 2024 (Ireland) \nhttps://ftmta.ie/ftmta-farm-machinery-show-2024/
URL:https://unitedseats.com/event/ftmta-show-2024-ireland/
CATEGORIES:Dealer events
ATTACH;FMTTYPE=image/jpeg:https://unitedseats.com/wp-content/uploads/2024/10/FTMTA.jpg
END:VEVENT
BEGIN:VEVENT
DTSTART;VALUE=DATE:20241109
DTEND;VALUE=DATE:20241111
DTSTAMP:20260424T051933
CREATED:20240522T143654Z
LAST-MODIFIED:20240522T143929Z
UID:12301-1731110400-1731283199@unitedseats.com
SUMMARY:NEWARK VINTAGE TRACTOR SHOW 2024 (United Kingdom)
DESCRIPTION:TractorParts.co.uk Ltd will attend Newark Vintage Tractor Show 2024 (United Kingdom) \nhttps://newarkvintagetractorshow.com/
URL:https://unitedseats.com/event/newark-vintage-tractor-show-2024-united-kingdom/
CATEGORIES:Dealer events
ATTACH;FMTTYPE=image/jpeg:https://unitedseats.com/wp-content/uploads/2023/04/Newark-Vintage-Heritage-Show.jpg
END:VEVENT
BEGIN:VEVENT
DTSTART;VALUE=DATE:20240921
DTEND;VALUE=DATE:20240925
DTSTAMP:20260424T051933
CREATED:20240522T142912Z
LAST-MODIFIED:20240522T143115Z
UID:12295-1726876800-1727222399@unitedseats.com
SUMMARY:AGRO SHOW 2024 (Poland)
DESCRIPTION:Katpol will attend Agro Show 2024 (Poland) \nhttps://www.agroshow.pl/agroshow/en
URL:https://unitedseats.com/event/agro-show-2024-poland/
CATEGORIES:Dealer events
ATTACH;FMTTYPE=image/jpeg:https://unitedseats.com/wp-content/uploads/2024/05/agroshow.jpg
ORGANIZER;CN="Katpol":MAILTO:katpol@katpol.com
END:VEVENT
BEGIN:VEVENT
DTSTART;VALUE=DATE:20240919
DTEND;VALUE=DATE:20240923
DTSTAMP:20260424T051933
CREATED:20240910T151654Z
LAST-MODIFIED:20240910T151654Z
UID:13038-1726704000-1727049599@unitedseats.com
SUMMARY:LES PYRÉNÉENNES SHOW 2024 (France)
DESCRIPTION:Azur Siège France will attend Les Pyrénéennes show 2024 (France) \nttps://www.pyreneennes.fr/programme/tout-le-programme/
URL:https://unitedseats.com/event/les-pyreneennes-show-2024/
CATEGORIES:Dealer events
ATTACH;FMTTYPE=image/jpeg:https://unitedseats.com/wp-content/uploads/2024/09/LES-PYRENEENNES-1.jpg
END:VEVENT
BEGIN:VEVENT
DTSTART;VALUE=DATE:20240913
DTEND;VALUE=DATE:20241116
DTSTAMP:20260424T051933
CREATED:20240712T111932Z
LAST-MODIFIED:20240712T111932Z
UID:12641-1726185600-1731715199@unitedseats.com
SUMMARY:FOIRE DE LA BEAUCROISSANT (France)
DESCRIPTION:BF Equipement will attend Foire de la Beaucroissant show 2024. \nhttps://www.foirebeaucroissant.fr/
URL:https://unitedseats.com/event/foire-de-la-beaucroissant-france/
CATEGORIES:Dealer events
ATTACH;FMTTYPE=image/jpeg:https://unitedseats.com/wp-content/uploads/2024/07/logofoire.jpg
END:VEVENT
BEGIN:VEVENT
DTSTART;VALUE=DATE:20240811
DTEND;VALUE=DATE:20240812
DTSTAMP:20260424T051933
CREATED:20240710T083214Z
LAST-MODIFIED:20240710T083251Z
UID:12621-1723334400-1723420799@unitedseats.com
SUMMARY:TULLAMORE SHOW 2024 (Ireland)
DESCRIPTION:Seat Systems will attend Agro Show 2024 (Poland) \nhttps://tullamoreshow.com/
URL:https://unitedseats.com/event/tullamore-show-2024-ireland/
CATEGORIES:Dealer events
ATTACH;FMTTYPE=image/jpeg:https://unitedseats.com/wp-content/uploads/2024/07/tullamoreshow-logo.jpg
END:VEVENT
BEGIN:VEVENT
DTSTART;VALUE=DATE:20240809
DTEND;VALUE=DATE:20240811
DTSTAMP:20260424T051933
CREATED:20240730T092908Z
LAST-MODIFIED:20240730T092908Z
UID:12821-1723161600-1723334399@unitedseats.com
SUMMARY:POWER TRUCK SHOW 2024 (Finland)
DESCRIPTION:SANUP will attend  Power Truck Show (Finland) \nhttps://www.powertruckshow.fi/en/ \n 
URL:https://unitedseats.com/event/power-truck-show-2024-finland/
CATEGORIES:Dealer events
ATTACH;FMTTYPE=image/jpeg:https://unitedseats.com/wp-content/uploads/2024/07/powertruckshow-2024.jpg
END:VEVENT
BEGIN:VEVENT
DTSTART;VALUE=DATE:20240722
DTEND;VALUE=DATE:20240726
DTSTAMP:20260424T051933
CREATED:20240522T141454Z
LAST-MODIFIED:20240522T143122Z
UID:12293-1721606400-1721951999@unitedseats.com
SUMMARY:ROYAL WELSH SHOW 2024 (United Kingdom)
DESCRIPTION:Carpenter Goodwin will attend Royal Welsh Show 2024 (United Kingdom) \nhttps://rwas.wales/royal-welsh/
URL:https://unitedseats.com/event/royal-welsh-show-2024-united-kingdom/
CATEGORIES:Dealer events
ATTACH;FMTTYPE=image/jpeg:https://unitedseats.com/wp-content/uploads/2017/08/royal-welsh-agricultural-society.jpg
END:VEVENT
BEGIN:VEVENT
DTSTART;VALUE=DATE:20240717
DTEND;VALUE=DATE:20240718
DTSTAMP:20260424T051933
CREATED:20240522T130250Z
LAST-MODIFIED:20240522T143129Z
UID:12289-1721174400-1721260799@unitedseats.com
SUMMARY:DRIFFIELD SHOW 2024 (United Kingdom)
DESCRIPTION:Independent Agri Parts will attend Driffield Show 2024 (United Kingdom) \nhttps://www.driffieldshowground.co.uk/
URL:https://unitedseats.com/event/driffield-show-2024-united-kingdom/
CATEGORIES:Dealer events
ATTACH;FMTTYPE=image/jpeg:https://unitedseats.com/wp-content/uploads/2024/05/driffieldshowground.jpg
END:VEVENT
BEGIN:VEVENT
DTSTART;VALUE=DATE:20240626
DTEND;VALUE=DATE:20240728
DTSTAMP:20260424T051933
CREATED:20240521T142755Z
LAST-MODIFIED:20240521T144638Z
UID:12279-1719360000-1722124799@unitedseats.com
SUMMARY:BORGEBY FÄLTDAGAR (Sweden)
DESCRIPTION:Förarmiljö AB will attend Borgeby Fältdagar (Sweden) \nhttps://www.borgebyfaltdagar.se/
URL:https://unitedseats.com/event/borgeby-faltdagar-sweden/
CATEGORIES:Dealer events
ATTACH;FMTTYPE=image/jpeg:https://unitedseats.com/wp-content/uploads/2024/05/Borgeby-Faltdagar-show.jpg
END:VEVENT
BEGIN:VEVENT
DTSTART;VALUE=DATE:20240624
DTEND;VALUE=DATE:20240626
DTSTAMP:20260424T051933
CREATED:20240103T143139Z
LAST-MODIFIED:20240103T143152Z
UID:11664-1719187200-1719359999@unitedseats.com
SUMMARY:HILLHEAD CONSTRUCTION AND PLANT 2024 (United Kingdom)
DESCRIPTION:TEK Seating will attend Hillhead Construction and Plant 2024 (United Kingdom) \nhttps://www.hillhead.com/exhibitors/hillhead-2024
URL:https://unitedseats.com/event/hillhead-construction-and-plant-2024-united-kingdom/
CATEGORIES:Dealer events
ATTACH;FMTTYPE=image/jpeg:https://unitedseats.com/wp-content/uploads/2024/01/Hillhead-logo.jpg
END:VEVENT
BEGIN:VEVENT
DTSTART;VALUE=DATE:20240620
DTEND;VALUE=DATE:20240624
DTSTAMP:20260424T051933
CREATED:20240521T133658Z
LAST-MODIFIED:20240521T144643Z
UID:12275-1718841600-1719187199@unitedseats.com
SUMMARY:ROYAL HIGHLAND SHOW 2024 (United Kingdom)
DESCRIPTION:Thomas Scott will attend Royal Highland Show 2024 (United Kingdom) \nhttps://www.royalhighlandshow.org/blogs/royal-highland-show-back-with-a-bang-as-it-celebrates-its-largest-ever-attendance/ \n 
URL:https://unitedseats.com/event/royal-highland-show-2024-united-kingdom/
CATEGORIES:Dealer events
ATTACH;FMTTYPE=image/jpeg:https://unitedseats.com/wp-content/uploads/2024/05/Royal-Highland-Show-2024.jpg
END:VEVENT
BEGIN:VEVENT
DTSTART;VALUE=DATE:20240611
DTEND;VALUE=DATE:20240613
DTSTAMP:20260424T051933
CREATED:20240103T143642Z
LAST-MODIFIED:20240103T143855Z
UID:11662-1718064000-1718236799@unitedseats.com
SUMMARY:CEREALS 2024 (United Kingdom)
DESCRIPTION:TEK Seating and Spaldings will attend Cereals 2024 (United Kingdom) \nhttps://www.cerealsevent.co.uk/
URL:https://unitedseats.com/event/cereals-2024-united-kingdom/
CATEGORIES:Dealer events
ATTACH;FMTTYPE=image/jpeg:https://unitedseats.com/wp-content/uploads/2023/01/cereals-show-2023.jpg
END:VEVENT
BEGIN:VEVENT
DTSTART;VALUE=DATE:20240607
DTEND;VALUE=DATE:20240610
DTSTAMP:20260424T051933
CREATED:20240521T144634Z
LAST-MODIFIED:20240604T074542Z
UID:12283-1717718400-1717977599@unitedseats.com
SUMMARY:TERRES EN FÊTE 2024 (France)
DESCRIPTION:Azur Siège France and Rocco Pièces will attend together the agricultural show Terres en Fête 2024 (France) \nhttps://terres-en-fete.com/
URL:https://unitedseats.com/event/terres-en-fete-2024-france/
CATEGORIES:Dealer events
ATTACH;FMTTYPE=image/jpeg:https://unitedseats.com/wp-content/uploads/2024/05/terres-en-fete-2024.jpg
END:VEVENT
BEGIN:VEVENT
DTSTART;VALUE=DATE:20240424
DTEND;VALUE=DATE:20240428
DTSTAMP:20260424T051933
CREATED:20210812T114337Z
LAST-MODIFIED:20240103T143336Z
UID:8436-1713916800-1714262399@unitedseats.com
SUMMARY:INTERMAT 2024 (France)
DESCRIPTION:UnitedSeats and EBLO Seating will attend Intermat 2024 (France) \nhttps://paris-en.intermatconstruction.com/
URL:https://unitedseats.com/event/intermat-2024/
LOCATION:Nord Villepinte\, Paris\, France
CATEGORIES:Dealer events,Exhibitions
ATTACH;FMTTYPE=image/jpeg:https://unitedseats.com/wp-content/uploads/2021/08/intermat-2024.jpg
ORGANIZER;CN="UnitedSeats":MAILTO:info@unitedseats.com
END:VEVENT
BEGIN:VEVENT
DTSTART;VALUE=DATE:20240422
DTEND;VALUE=DATE:20240426
DTSTAMP:20260424T051933
CREATED:20240321T082413Z
LAST-MODIFIED:20240321T082413Z
UID:12019-1713744000-1714089599@unitedseats.com
SUMMARY:TRADE FAIR SEEBBE 2024 (Serbia)
DESCRIPTION:AgriconsTEC will attend Trade Fair SEEBBE 2024 (Serbia) \nhttps://sajam.rs/en/2024-building-trade-fair-from-vision-to-reality/ \n 
URL:https://unitedseats.com/event/trade-fair-seebbe-2024-serbia/
LOCATION:Belgrade Fair\, Bulevar vojvode Mišića 14\, Beograd\, 11000\, Serbia
CATEGORIES:Dealer events
ATTACH;FMTTYPE=image/jpeg:https://unitedseats.com/wp-content/uploads/2024/03/seebbe.jpg
ORGANIZER;CN="Agricons TEC":MAILTO:info@agriconstec.com
END:VEVENT
BEGIN:VEVENT
DTSTART;VALUE=DATE:20240224
DTEND;VALUE=DATE:20240226
DTSTAMP:20260424T051933
CREATED:20240103T144246Z
LAST-MODIFIED:20240103T144246Z
UID:11661-1708732800-1708905599@unitedseats.com
SUMMARY:TRACTOR WORLD SHOW 2024 (United Kingdom)
DESCRIPTION:TractorParts.co.uk Ltd will attend Tractor World Show 2024 (United Kingdom) \nhttps://tractorworldshow.co.uk/2023/05/25/save-the-date-for-tractor-world-show-2024/
URL:https://unitedseats.com/event/tractor-world-show-2024-united-kingdom/
CATEGORIES:Dealer events
ATTACH;FMTTYPE=image/jpeg:https://unitedseats.com/wp-content/uploads/2024/01/TractorWorld_logo.jpg
END:VEVENT
BEGIN:VEVENT
DTSTART;VALUE=DATE:20240213
DTEND;VALUE=DATE:20240215
DTSTAMP:20260424T051933
CREATED:20230412T174811Z
LAST-MODIFIED:20240103T145022Z
UID:10711-1707782400-1707955199@unitedseats.com
SUMMARY:FIMA 2024 (Spain)
DESCRIPTION:Sumsertech (SST Componentes) will attend FIMA Agricola Zaragoza Show 2024 (Spain). \nhttps://www.tradefairdates.com/Fima+Agricola-M4301/Zaragoza.html
URL:https://unitedseats.com/event/fima-2024-spain/
LOCATION:Feria de Zaragoza\, Autovia A - 2\, Zaragoza\, 50012\, Spain
CATEGORIES:Dealer events
ATTACH;FMTTYPE=image/jpeg:https://unitedseats.com/wp-content/uploads/2023/04/fima-logo.jpg
ORGANIZER;CN="SST Componentes":MAILTO:info@sstcomponentes.com
END:VEVENT
BEGIN:VEVENT
DTSTART;VALUE=DATE:20240207
DTEND;VALUE=DATE:20240208
DTSTAMP:20260424T051933
CREATED:20240103T144451Z
LAST-MODIFIED:20240103T145440Z
UID:11660-1707264000-1707350399@unitedseats.com
SUMMARY:YORKSHIRE AGRICULTURAL MACHINERY SHOW (YAMS) 2024 (United Kingdom)
DESCRIPTION:Independent Agri Parts will attend Yorkshire Agricultural Machinery Show (YAMS) 2024 (United Kingdom) \nhttps://www.yams.uk.com/
URL:https://unitedseats.com/event/yorkshire-agricultural-machinery-show-yams-2024-united-kingdom/
CATEGORIES:Dealer events
ATTACH;FMTTYPE=image/jpeg:https://unitedseats.com/wp-content/uploads/2024/01/Yorkshire-Agricultural-Machinery-Show-YAMS.jpg
END:VEVENT
BEGIN:VEVENT
DTSTART;VALUE=DATE:20240206
DTEND;VALUE=DATE:20240211
DTSTAMP:20260424T051933
CREATED:20240103T150018Z
LAST-MODIFIED:20240103T150628Z
UID:11659-1707177600-1707609599@unitedseats.com
SUMMARY:STOCKHOLM FURNITURE FAIR 2024 (Sweden)
DESCRIPTION:StolComfort will attend Stockholm Furniture Fair 2024 (Sweden) \nhttps://www.stockholmfurniturefair.se/en
URL:https://unitedseats.com/event/stockholm-furniture-fair-2024-sweden/
CATEGORIES:Dealer events
ATTACH;FMTTYPE=image/jpeg:https://unitedseats.com/wp-content/uploads/2024/01/Stockholm-furniture-fair.jpg
END:VEVENT
BEGIN:VEVENT
DTSTART;VALUE=DATE:20240201
DTEND;VALUE=DATE:20240205
DTSTAMP:20260424T051933
CREATED:20240103T150543Z
LAST-MODIFIED:20240103T150543Z
UID:11658-1706745600-1707091199@unitedseats.com
SUMMARY:AGROTICA 2024 (Greece)
DESCRIPTION:George Pantzaris & Sons will attend Agrotica 2024 (Greece) \nhttps://www.agrotica-expo.gr/en/
URL:https://unitedseats.com/event/agrotica-2024-greece/
CATEGORIES:Dealer events
ATTACH;FMTTYPE=image/jpeg:https://unitedseats.com/wp-content/uploads/2024/01/Agrotica-1.jpg
END:VEVENT
BEGIN:VEVENT
DTSTART;VALUE=DATE:20240124
DTEND;VALUE=DATE:20240128
DTSTAMP:20260424T051933
CREATED:20240103T150905Z
LAST-MODIFIED:20240103T150905Z
UID:11657-1706054400-1706399999@unitedseats.com
SUMMARY:AGROMASHEXPO 2024 (Hungary)
DESCRIPTION:Agrar Plaza will attend AGROmashEXPO 2024 (Hungary) \nhttps://agromashexpo.hu/en/ \n 
URL:https://unitedseats.com/event/agromashexpo-2024-hungary/
CATEGORIES:Dealer events
ATTACH;FMTTYPE=image/jpeg:https://unitedseats.com/wp-content/uploads/2024/01/Agromeshexpo-logo.jpg
END:VEVENT
END:VCALENDAR