BEGIN:VCALENDAR
VERSION:2.0
PRODID:-//UnitedSeats.com - ECPv6.15.20//NONSGML v1.0//EN
CALSCALE:GREGORIAN
METHOD:PUBLISH
X-ORIGINAL-URL:https://unitedseats.com
X-WR-CALDESC:Events for UnitedSeats.com
REFRESH-INTERVAL;VALUE=DURATION:PT1H
X-Robots-Tag:noindex
X-PUBLISHED-TTL:PT1H
BEGIN:VTIMEZONE
TZID:UTC
BEGIN:STANDARD
TZOFFSETFROM:+0000
TZOFFSETTO:+0000
TZNAME:UTC
DTSTART:20210101T000000
END:STANDARD
END:VTIMEZONE
BEGIN:VEVENT
DTSTART;VALUE=DATE:20230719
DTEND;VALUE=DATE:20230720
DTSTAMP:20260424T064520
CREATED:20230412T144512Z
LAST-MODIFIED:20230412T171734Z
UID:10693-1689724800-1689811199@unitedseats.com
SUMMARY:DRIFFIELD SHOW 2023
DESCRIPTION:Independent Agri Parts will attend Driffield Show (East Yorkshire). \nhttps://www.driffieldshowground.co.uk/
URL:https://unitedseats.com/event/driffield-show-2023/
LOCATION:East Yorkshire\, United Kingdom
CATEGORIES:Dealer events
ATTACH;FMTTYPE=image/jpeg:https://unitedseats.com/wp-content/uploads/2023/04/Driffield-Show-2023.jpg
END:VEVENT
BEGIN:VEVENT
DTSTART;VALUE=DATE:20230628
DTEND;VALUE=DATE:20230630
DTSTAMP:20260424T064520
CREATED:20230607T101733Z
LAST-MODIFIED:20230607T101733Z
UID:10870-1687910400-1688083199@unitedseats.com
SUMMARY:BORGEBY FIELD DAYS 2023
DESCRIPTION:Förarmiljö AB will attend Borgeby Field Days 2023 (Sweden). \nhttps://www.borgebyfaltdagar.se/
URL:https://unitedseats.com/event/borgeby-field-days-2023/
LOCATION:Bjärred\, Bjärred\, Sweden
CATEGORIES:Dealer events
ATTACH;FMTTYPE=image/jpeg:https://unitedseats.com/wp-content/uploads/2023/06/Borgeby-Field-Days-28-29-June-2023.jpg
END:VEVENT
BEGIN:VEVENT
DTSTART;VALUE=DATE:20230622
DTEND;VALUE=DATE:20230626
DTSTAMP:20260424T064520
CREATED:20230104T110630Z
LAST-MODIFIED:20230104T112524Z
UID:10330-1687392000-1687737599@unitedseats.com
SUMMARY:ROYAL HIGHLAND SHOW 2023
DESCRIPTION:Thomas Scott Seating will attend Royal Highland Show 2023 (Edinburgh). \nhttps://www.royalhighlandshow.org/
URL:https://unitedseats.com/event/royal-highland-show-2023/
LOCATION:Edinburgh\, Royal Highland Centre\, Edingburgh\, Ingliston\, United Kingdom
CATEGORIES:Dealer events
ATTACH;FMTTYPE=image/jpeg:https://unitedseats.com/wp-content/uploads/2023/01/royal-highland-show-2023.jpg
END:VEVENT
BEGIN:VEVENT
DTSTART;VALUE=DATE:20230622
DTEND;VALUE=DATE:20230625
DTSTAMP:20260424T064520
CREATED:20221205T113728Z
LAST-MODIFIED:20230525T043241Z
UID:10223-1687392000-1687651199@unitedseats.com
SUMMARY:EUROFOREST 2023 (France)
DESCRIPTION:Azur Siège France and BF Equipment will attend EUROFOREST 2023 (France). \nhttps://www.euroforest.fr/
URL:https://unitedseats.com/event/euroforest-2023-france/
LOCATION:Saint-Bonnet-de-Joux\, 71\, France\, Saint-Bonnet-de-Joux\, France
CATEGORIES:Dealer events
ATTACH;FMTTYPE=image/jpeg:https://unitedseats.com/wp-content/uploads/2022/12/eurofest-1.jpg
END:VEVENT
BEGIN:VEVENT
DTSTART;VALUE=DATE:20230613
DTEND;VALUE=DATE:20230616
DTSTAMP:20260424T064520
CREATED:20230110T083211Z
LAST-MODIFIED:20230110T083445Z
UID:10353-1686614400-1686873599@unitedseats.com
SUMMARY:PLANTWORX 2023
DESCRIPTION:HTS Spares will attend Plantworx 2023 (Peterborough). \nhttps://plantworx.co.uk/
URL:https://unitedseats.com/event/plantworx-2023/
LOCATION:Peterborough
CATEGORIES:Dealer events
ATTACH;FMTTYPE=image/jpeg:https://unitedseats.com/wp-content/uploads/2023/01/plantworx2023.jpg
END:VEVENT
BEGIN:VEVENT
DTSTART;VALUE=DATE:20230613
DTEND;VALUE=DATE:20230615
DTSTAMP:20260424T064520
CREATED:20230104T105816Z
LAST-MODIFIED:20230110T113027Z
UID:10323-1686614400-1686787199@unitedseats.com
SUMMARY:CEREALS 2023
DESCRIPTION:TEK Seating and Capital Seating will attend Cereals 2023 (Nottinghamshire). \nhttps://www.cerealsevent.co.uk/
URL:https://unitedseats.com/event/cereals-2023/
LOCATION:Nottinghamshire\, Nottinghamshire\, United Kingdom
CATEGORIES:Dealer events
ATTACH;FMTTYPE=image/jpeg:https://unitedseats.com/wp-content/uploads/2023/01/cereals-show-2023.jpg
END:VEVENT
BEGIN:VEVENT
DTSTART;VALUE=DATE:20230413
DTEND;VALUE=DATE:20230416
DTSTAMP:20260424T064520
CREATED:20230309T130936Z
LAST-MODIFIED:20230309T131037Z
UID:10603-1681344000-1681603199@unitedseats.com
SUMMARY:PAVASARIS 2023 (Latvia)
DESCRIPTION:Carlat will attend Pavasaris Agricultural Show 2023 (Latvia). \nhttps://www.ramava.lv/exhibitions
URL:https://unitedseats.com/event/pavasaris-2023-latvia/
CATEGORIES:Dealer events
ATTACH;FMTTYPE=image/jpeg:https://unitedseats.com/wp-content/uploads/2023/03/pavasaris2023-2.jpg
ORGANIZER;CN="Carlat":MAILTO:info@carlat.com
END:VEVENT
BEGIN:VEVENT
DTSTART;VALUE=DATE:20230210
DTEND;VALUE=DATE:20230220
DTSTAMP:20260424T064520
CREATED:20230202T151357Z
LAST-MODIFIED:20230202T151357Z
UID:10483-1675987200-1676851199@unitedseats.com
SUMMARY:HELSINKI INTERNATIONAL BOAT SHOW 2023 (Finland)
DESCRIPTION:Avoline will attend Helsinki International Boat Show 2023 (Finland) \nhttps://www.showsbee.com/fairs/Helsinki-Boat-Show.html
URL:https://unitedseats.com/event/helsinki-international-boat-show-2023-finland/
LOCATION:Helsinki\, Finland
CATEGORIES:Dealer events
ATTACH;FMTTYPE=image/jpeg:https://unitedseats.com/wp-content/uploads/2023/02/Vene-Bat.jpg
ORGANIZER;CN="Avoline Oy":MAILTO:tietoa@avoline.fi
END:VEVENT
BEGIN:VEVENT
DTSTART;VALUE=DATE:20230208
DTEND;VALUE=DATE:20230209
DTSTAMP:20260424T064520
CREATED:20230110T112717Z
LAST-MODIFIED:20230110T112917Z
UID:10371-1675814400-1675900799@unitedseats.com
SUMMARY:YORKSHIRE AGRICULTURAL MACHINERY SHOW 2023
DESCRIPTION:Independent Agri Parts will attend Yorkshire Agricultural Machinery Show (York) \nhttps://www.yams.uk.com/
URL:https://unitedseats.com/event/yorkshire-agricultural-machinery-show-2023/
LOCATION:York Auction Centre\, York\, YO19 5GF\, United Kingdom
CATEGORIES:Dealer events
ATTACH;FMTTYPE=image/jpeg:https://unitedseats.com/wp-content/uploads/2023/01/Yorkshire-Agricultural-Machinery-Show-logo.jpg
END:VEVENT
BEGIN:VEVENT
DTSTART;VALUE=DATE:20230207
DTEND;VALUE=DATE:20230212
DTSTAMP:20260424T064520
CREATED:20230202T150434Z
LAST-MODIFIED:20230202T151406Z
UID:10477-1675728000-1676159999@unitedseats.com
SUMMARY:STOCKHOLM FURNITURE FAIR 2023 (Sweden)
DESCRIPTION:Stolcomfort will attend Stockholm Furniture Fair (Sweden) \nhttps://www.stockholmfurniturefair.se/?sc_lang=en \n 
URL:https://unitedseats.com/event/stockholm-furniture-fair-2023-sweden/
LOCATION:Stockholm\, Sweden
CATEGORIES:Dealer events
ATTACH;FMTTYPE=image/jpeg:https://unitedseats.com/wp-content/uploads/2023/02/SFF23.jpg
END:VEVENT
BEGIN:VEVENT
DTSTART;VALUE=DATE:20230207
DTEND;VALUE=DATE:20230208
DTSTAMP:20260424T064520
CREATED:20230106T143138Z
LAST-MODIFIED:20230106T143213Z
UID:10343-1675728000-1675814399@unitedseats.com
SUMMARY:Fagdekk show 2023 (norway)
DESCRIPTION:Skandinavisk Dekkimport will attend Fagdekk show 2023 (Norway). \n 
URL:https://unitedseats.com/event/fagdekk-show-2023-norway/
CATEGORIES:Dealer events
END:VEVENT
BEGIN:VEVENT
DTSTART;VALUE=DATE:20230125
DTEND;VALUE=DATE:20230129
DTSTAMP:20260424T064520
CREATED:20230110T103933Z
LAST-MODIFIED:20230110T103933Z
UID:10366-1674604800-1674950399@unitedseats.com
SUMMARY:AGROMASHEXPO 2023 (Budapest)
DESCRIPTION:Agra Plaza will attend AGROmashEXPO (Budapest) \nhttps://agromashexpo.hu/en/
URL:https://unitedseats.com/event/agromashexpo-2023-budapest/
LOCATION:Budapest\, Hungary
CATEGORIES:Dealer events
ATTACH;FMTTYPE=image/jpeg:https://unitedseats.com/wp-content/uploads/2023/01/AGROmashEXPO.jpg
END:VEVENT
BEGIN:VEVENT
DTSTART;VALUE=DATE:20230110
DTEND;VALUE=DATE:20230112
DTSTAMP:20260424T064520
CREATED:20230104T102843Z
LAST-MODIFIED:20230104T105927Z
UID:10317-1673308800-1673481599@unitedseats.com
SUMMARY:LAMMA SHOW 2023
DESCRIPTION:TEK Seating and Capital Seating will attend Lamma 2023 (Birmingham). \nhttps://www.lammashow.com/
URL:https://unitedseats.com/event/10317/
LOCATION:Birmingham NEC\, United Kingdom
CATEGORIES:Dealer events
ATTACH;FMTTYPE=image/jpeg:https://unitedseats.com/wp-content/uploads/2023/01/lamma-show-2023.jpg
END:VEVENT
BEGIN:VEVENT
DTSTART;VALUE=DATE:20221128
DTEND;VALUE=DATE:20221130
DTSTAMP:20260424T064520
CREATED:20220422T073852Z
LAST-MODIFIED:20220422T103911Z
UID:9277-1669593600-1669766399@unitedseats.com
SUMMARY:ROYAL WELSH WINTER FAIR
DESCRIPTION:Carpenter Goodwin is attending the Royal Welsh Winter Fair.\nhttps://rwas.wales/winter-fair/
URL:https://unitedseats.com/event/royal-welsh-winter-fair-2/
LOCATION:Royal Welsh Showground\, Llanelwedd\, Builth Wells\, LD2 3SY\, United Kingdom
CATEGORIES:Dealer events
ATTACH;FMTTYPE=image/png:https://unitedseats.com/wp-content/uploads/2022/04/RWAS-new-crest_transparent_900px-2022.png
END:VEVENT
BEGIN:VEVENT
DTSTART;VALUE=DATE:20221106
DTEND;VALUE=DATE:20221111
DTSTAMP:20260424T064520
CREATED:20220114T071814Z
LAST-MODIFIED:20220713T063431Z
UID:8850-1667692800-1668124799@unitedseats.com
SUMMARY:Sima Show Paris 2022
DESCRIPTION:UnitedSeats and EBLO Seating will attend Sima show in Paris. \nhttps://en.simaonline.com/
URL:https://unitedseats.com/event/sima-show-paris-2022/
LOCATION:Paris\, France
CATEGORIES:Dealer events,Exhibitions
ATTACH;FMTTYPE=image/jpeg:https://unitedseats.com/wp-content/uploads/2022/01/sima2022.jpg
ORGANIZER;CN="UnitedSeats":MAILTO:info@unitedseats.com
END:VEVENT
BEGIN:VEVENT
DTSTART;VALUE=DATE:20221105
DTEND;VALUE=DATE:20221107
DTSTAMP:20260424T064520
CREATED:20220422T103013Z
LAST-MODIFIED:20220422T103013Z
UID:9292-1667606400-1667779199@unitedseats.com
SUMMARY:NEWARK VINTAGE TRACTOR SHOW 2022
DESCRIPTION:Tractor Parts UK is attending Newark Vintage Tractor & Heritage Show 2022 \nhttps://www.newarkvintagetractorshow.com/
URL:https://unitedseats.com/event/newark-vintage-tractor-show-2022/
LOCATION:Newark Vintage Tractor & Heritage Show\, Lincoln Road\, Newark\, NG24 2NY\, United Kingdom
CATEGORIES:Dealer events
ATTACH;FMTTYPE=image/jpeg:https://unitedseats.com/wp-content/uploads/2022/04/Newark-Vintage-Tractor-show-2022.jpg
END:VEVENT
BEGIN:VEVENT
DTSTART;VALUE=DATE:20221024
DTEND;VALUE=DATE:20221031
DTSTAMP:20260424T064520
CREATED:20210812T112706Z
LAST-MODIFIED:20220114T063122Z
UID:8429-1666569600-1667174399@unitedseats.com
SUMMARY:BAUMA 2022
DESCRIPTION:UnitedSeats and EBLO Seating will attend Bauma 2022 \nhttps://www.bauma.de/en/ \n  \n 
URL:https://unitedseats.com/event/bauma-2022/
LOCATION:Messe Munchen – Bauma\, Am Messeturm\, Munchen\, 81829\, Germany
CATEGORIES:Dealer events,Exhibitions
ATTACH;FMTTYPE=image/jpeg:https://unitedseats.com/wp-content/uploads/2021/08/bauma-2022.jpg
ORGANIZER;CN="UnitedSeats":MAILTO:info@unitedseats.com
END:VEVENT
BEGIN:VEVENT
DTSTART;VALUE=DATE:20221020
DTEND;VALUE=DATE:20221024
DTSTAMP:20260424T064520
CREATED:20210910T102453Z
LAST-MODIFIED:20230823T085419Z
UID:8468-1666224000-1666569599@unitedseats.com
SUMMARY:AGROTICA 2022 (Greece)
DESCRIPTION:PANTZARIS will attend AGROTICA 2022 (Greece). \nhttps://agrotica.helexpo.gr/en
URL:https://unitedseats.com/event/agrotica-2022-greece/
LOCATION:Thessaloniki\, Egnatia 154\, Thessaloniki\, 546 36\, Greece
CATEGORIES:Dealer events
ATTACH;FMTTYPE=image/jpeg:https://unitedseats.com/wp-content/uploads/2021/09/Schermafbeelding-2021-09-10-om-14.18.02.jpg
END:VEVENT
BEGIN:VEVENT
DTSTART;VALUE=DATE:20220923
DTEND;VALUE=DATE:20220926
DTSTAMP:20260424T064520
CREATED:20220914T130711Z
LAST-MODIFIED:20220914T130811Z
UID:9785-1663891200-1664150399@unitedseats.com
SUMMARY:Agro Show 2022 in Poland
DESCRIPTION:Katpol is attending Agro Show 2022 in Poland. \nhttps://www.agroshow.pl/agroshow/en/
URL:https://unitedseats.com/event/agro-show-2022-in-poland/
CATEGORIES:Dealer events
ATTACH;FMTTYPE=image/jpeg:https://unitedseats.com/wp-content/uploads/2022/09/agroshow-2022-poland.jpg
ORGANIZER;CN="Katpol":MAILTO:katpol@katpol.com
END:VEVENT
BEGIN:VEVENT
DTSTART;VALUE=DATE:20220920
DTEND;VALUE=DATE:20220923
DTSTAMP:20260424T064520
CREATED:20211118T093650Z
LAST-MODIFIED:20211118T093650Z
UID:8727-1663632000-1663891199@unitedseats.com
SUMMARY:National Ploughing Championship 2022
DESCRIPTION:Seat Systems Ireland will attend National Ploughing Championship 2022 \nhttps://www.npa.ie/
URL:https://unitedseats.com/event/national-ploughing-championship-2022/
LOCATION:Ratheniska\, County Laois\, Ireland\, Ratheniska\, County Laois\, Ireland
CATEGORIES:Dealer events
ATTACH;FMTTYPE=image/jpeg:https://unitedseats.com/wp-content/uploads/2021/11/National-Ploughing-Championship-2022.jpg
END:VEVENT
BEGIN:VEVENT
DTSTART;VALUE=DATE:20220906
DTEND;VALUE=DATE:20220910
DTSTAMP:20260424T064520
CREATED:20210910T110728Z
LAST-MODIFIED:20220113T143245Z
UID:8482-1662422400-1662767999@unitedseats.com
SUMMARY:STOCKHOLM FURNITURE FAIR (Sweden)
DESCRIPTION:STOCKHOLM FURNITURE FAIR (Sweden) \nhttps://www.stockholmfurniturelightfair.se/
URL:https://unitedseats.com/event/stockholm-furniture-fair-sweden/
CATEGORIES:Dealer events
ATTACH;FMTTYPE=image/png:https://unitedseats.com/wp-content/uploads/2021/09/Schermafbeelding-2021-09-10-om-15.05.51.png
END:VEVENT
BEGIN:VEVENT
DTSTART;VALUE=DATE:20220718
DTEND;VALUE=DATE:20220722
DTSTAMP:20260424T064520
CREATED:20220422T074544Z
LAST-MODIFIED:20220422T103844Z
UID:9290-1658102400-1658447999@unitedseats.com
SUMMARY:ROYAL WELSH SHOW
DESCRIPTION:Carpenter Goodwin is attending the Royal Welsh Show.\nhttps://rwas.wales/whats-on/royal-welsh-show-2/
URL:https://unitedseats.com/event/royal-welsh-show-3/
LOCATION:Royal Welsh Showground\, Llanelwedd\, Builth Wells\, LD2 3SY\, United Kingdom
CATEGORIES:Dealer events
ATTACH;FMTTYPE=image/jpeg:https://unitedseats.com/wp-content/uploads/2017/08/royal-welsh-agricultural-society.jpg
END:VEVENT
BEGIN:VEVENT
DTSTART;VALUE=DATE:20220629
DTEND;VALUE=DATE:20220701
DTSTAMP:20260424T064520
CREATED:20211109T075557Z
LAST-MODIFIED:20211109T075557Z
UID:8681-1656460800-1656633599@unitedseats.com
SUMMARY:IVT EXPO 2022
DESCRIPTION:UnitetSeats and EBLO Seating will attend IVT EXPO 2022 \nhttps://www.ivtexpo.com/en/
URL:https://unitedseats.com/event/ivt-expo-2022/
LOCATION:Cologne Germany\, Messeplatz 1\, Köln\, 50679\, Germany
CATEGORIES:Dealer events,Exhibitions
ATTACH;FMTTYPE=image/jpeg:https://unitedseats.com/wp-content/uploads/2021/11/ivtLogo1.jpg
ORGANIZER;CN="UnitedSeats":MAILTO:info@unitedseats.com
END:VEVENT
BEGIN:VEVENT
DTSTART;VALUE=DATE:20220623
DTEND;VALUE=DATE:20220627
DTSTAMP:20260424T064520
CREATED:20211109T095139Z
LAST-MODIFIED:20211109T095139Z
UID:8694-1655942400-1656287999@unitedseats.com
SUMMARY:ROYAL HIGHLAND SHOW 2022
DESCRIPTION:Thomas SCOTT SEATING will attend ROYAL HIGHLAND SHOW 2022 \nhttps://www.royalhighlandshow.org/
URL:https://unitedseats.com/event/royal-highland-show-2022/
LOCATION:Edinburgh\, Royal Highland Centre\, Edingburgh\, Ingliston\, United Kingdom
CATEGORIES:Dealer events
ATTACH;FMTTYPE=image/jpeg:https://unitedseats.com/wp-content/uploads/2021/11/Schermafbeelding-2021-11-09-om-11.39.19.jpg
END:VEVENT
BEGIN:VEVENT
DTSTART;VALUE=DATE:20220621
DTEND;VALUE=DATE:20220624
DTSTAMP:20260424T064520
CREATED:20220114T065107Z
LAST-MODIFIED:20220114T065343Z
UID:8847-1655769600-1656028799@unitedseats.com
SUMMARY:Hillhead Construction and Quarrying Show 2022
DESCRIPTION:Tek Seating attending Hillhead Construction and Quarrying Show 2022 \nhttps://www.hillhead.com/ \n 
URL:https://unitedseats.com/event/hillhead-construction-and-quarrying-show-2022/
LOCATION:Buxton\, Derbyshire\, United Kingdom
CATEGORIES:Dealer events
ATTACH;FMTTYPE=image/jpeg:https://unitedseats.com/wp-content/uploads/2022/01/hillhead2022.jpg
END:VEVENT
BEGIN:VEVENT
DTSTART;VALUE=DATE:20220608
DTEND;VALUE=DATE:20220610
DTSTAMP:20260424T064520
CREATED:20211109T085818Z
LAST-MODIFIED:20211109T090226Z
UID:8687-1654646400-1654819199@unitedseats.com
SUMMARY:CEREALS SHOW 2022
DESCRIPTION:TEK SEATING and CAPITAL SEATING will attend CEREALS SHOW 2022 \nhttps://www.cerealsevent.co.uk/welcome \n 
URL:https://unitedseats.com/event/8687/
LOCATION:Duxford\, Cambridgeshire\, England\, United Kingdom
CATEGORIES:Dealer events
ATTACH;FMTTYPE=image/jpeg:https://unitedseats.com/wp-content/uploads/2021/11/cereals.jpg
END:VEVENT
BEGIN:VEVENT
DTSTART;VALUE=DATE:20220522
DTEND;VALUE=DATE:20220528
DTSTAMP:20260424T064520
CREATED:20220330T112522Z
LAST-MODIFIED:20220330T112630Z
UID:9191-1653177600-1653695999@unitedseats.com
SUMMARY:NOVI SAD agricultural fair 2022 (Serbia)
DESCRIPTION:AGROTECH attending NOVI SAD agricultural fair 2022 (Serbia)
URL:https://unitedseats.com/event/novi-sad-agricultural-fair-2022-serbia/
LOCATION:Hajduk Veljkova 11\, Hajduk Veljkova 11\, 21 000 Novi Sad\, Serbia
CATEGORIES:Dealer events
ATTACH;FMTTYPE=image/jpeg:https://unitedseats.com/wp-content/uploads/2022/03/Novi-sad-fair.jpg
END:VEVENT
BEGIN:VEVENT
DTSTART;VALUE=DATE:20220504
DTEND;VALUE=DATE:20220506
DTSTAMP:20260424T064520
CREATED:20210812T101549Z
LAST-MODIFIED:20220113T142746Z
UID:8413-1651622400-1651795199@unitedseats.com
SUMMARY:LAMMA SHOW 2022
DESCRIPTION:TEK SEATING\, MDE AGRIPARTS\, CAPITAL SEATING\, KDR SEATING and AGRILINE will attend the Lamma show. \nhttps://www.lammashow.com/show-news/lamma-show-moves-to-january-2022-dates/
URL:https://unitedseats.com/event/lamma-show-2022/
LOCATION:NEC\, National Exhibition Centre\, North Ave\, Marston Green\, Birmingham\, B40 1NT\, United Kingdom
CATEGORIES:Dealer events
ATTACH;FMTTYPE=image/jpeg:https://unitedseats.com/wp-content/uploads/2021/08/lamma-2022.jpg
END:VEVENT
BEGIN:VEVENT
DTSTART;VALUE=DATE:20220427
DTEND;VALUE=DATE:20220501
DTSTAMP:20260424T064520
CREATED:20220422T072842Z
LAST-MODIFIED:20220422T073556Z
UID:9274-1651017600-1651363199@unitedseats.com
SUMMARY:SEBBE SHOW BELGRADE SERBIA 27-30 APRIL
DESCRIPTION:AGRICONSTEC is attending Sebbe Show 2022 \nhttps://sajam.rs/en/
URL:https://unitedseats.com/event/sebbe-show-belgrade-serbia-27-30-april/
LOCATION:Belgrade Fair\, Bulevar vojvode Mišića 14\, Beograd\, 11000\, Serbia
CATEGORIES:Dealer events
ATTACH;FMTTYPE=image/jpeg:https://unitedseats.com/wp-content/uploads/2022/04/unitedseats-sebbe-show-2022-1.jpg
ORGANIZER;CN="Agricons TEC":MAILTO:info@agriconstec.com
END:VEVENT
BEGIN:VEVENT
DTSTART;VALUE=DATE:20220426
DTEND;VALUE=DATE:20220501
DTSTAMP:20260424T064520
CREATED:20210910T105435Z
LAST-MODIFIED:20220113T143403Z
UID:8478-1650931200-1651363199@unitedseats.com
SUMMARY:FIMA 2022 (Spain)
DESCRIPTION:SUMSERTECH attending FIMA 2022 (Spain) \nhttps://www.feriazaragoza.com/fima-agricola-2022
URL:https://unitedseats.com/event/fima-2022-spain/
CATEGORIES:Dealer events
ATTACH;FMTTYPE=image/png:https://unitedseats.com/wp-content/uploads/2021/09/Schermafbeelding-2021-09-10-om-14.53.57.png
ORGANIZER;CN="SST Componentes":MAILTO:info@sstcomponentes.com
END:VEVENT
END:VCALENDAR